BEGIN:VCALENDAR
VERSION:2.0
PRODID:-//Ventana By Buckner - ECPv6.15.20//NONSGML v1.0//EN
CALSCALE:GREGORIAN
METHOD:PUBLISH
X-ORIGINAL-URL:https://www.ventanabybuckner.com
X-WR-CALDESC:Events for Ventana By Buckner
REFRESH-INTERVAL;VALUE=DURATION:PT1H
X-Robots-Tag:noindex
X-PUBLISHED-TTL:PT1H
BEGIN:VTIMEZONE
TZID:America/Chicago
BEGIN:DAYLIGHT
TZOFFSETFROM:-0600
TZOFFSETTO:-0500
TZNAME:CDT
DTSTART:20220313T080000
END:DAYLIGHT
BEGIN:STANDARD
TZOFFSETFROM:-0500
TZOFFSETTO:-0600
TZNAME:CST
DTSTART:20221106T070000
END:STANDARD
BEGIN:DAYLIGHT
TZOFFSETFROM:-0600
TZOFFSETTO:-0500
TZNAME:CDT
DTSTART:20230312T080000
END:DAYLIGHT
BEGIN:STANDARD
TZOFFSETFROM:-0500
TZOFFSETTO:-0600
TZNAME:CST
DTSTART:20231105T070000
END:STANDARD
BEGIN:DAYLIGHT
TZOFFSETFROM:-0600
TZOFFSETTO:-0500
TZNAME:CDT
DTSTART:20240310T080000
END:DAYLIGHT
BEGIN:STANDARD
TZOFFSETFROM:-0500
TZOFFSETTO:-0600
TZNAME:CST
DTSTART:20241103T070000
END:STANDARD
END:VTIMEZONE
BEGIN:VEVENT
DTSTART;TZID=America/Chicago:20230124T110000
DTEND;TZID=America/Chicago:20230124T130000
DTSTAMP:20260424T020326
CREATED:20221228T144204Z
LAST-MODIFIED:20260120T185153Z
UID:1513-1674558000-1674565200@www.ventanabybuckner.com
SUMMARY:A TASTE OF HIGH-RISE LIVING LUNCHEON
DESCRIPTION:HOW MUCH STYLE\, ELEGANCE & FINANCIAL SECURITY YOUR FUTURE HOLDS MAY DEPEND ON YOUR POINT OF VIEW\nDiscover the Ventana version of high-rise living. More vibrant. More elegant. More attentive to your wants and needs. From top to bottom\, Ventana offers a more exciting and complete uptown lifestyle that should be on a must-consider list for your future. \nJoin us for a taste of Ventana’s lifestyle. Enjoy a magnificent lunch created by our culinary partner\, James Beard Awardwinning Chef Stephan Pyles\, and served in our spectacular Dorado restaurant. \nJANUARY 24\n11 a.m.\n8301 N. Central Expy in Dallas\nValet parking provided. \nRSVP\nRSVP by calling 855.516.3212 by January 17.\nOr visit VentanabyBuckner.com/RSVP \nMENU
URL:https://www.ventanabybuckner.com/event/a-taste-of-high-rise-living-luncheon/
LOCATION:Ventana by Buckner\, 8301 N Central Expressway\, Dallas\, TX\, 75225\, United States
CATEGORIES:Webinar
END:VEVENT
END:VCALENDAR