BEGIN:VCALENDAR
VERSION:2.0
PRODID:-//Ventana By Buckner - ECPv6.15.20//NONSGML v1.0//EN
CALSCALE:GREGORIAN
METHOD:PUBLISH
X-WR-CALNAME:Ventana By Buckner
X-ORIGINAL-URL:https://www.ventanabybuckner.com
X-WR-CALDESC:Events for Ventana By Buckner
REFRESH-INTERVAL;VALUE=DURATION:PT1H
X-Robots-Tag:noindex
X-PUBLISHED-TTL:PT1H
BEGIN:VTIMEZONE
TZID:America/Chicago
BEGIN:DAYLIGHT
TZOFFSETFROM:-0600
TZOFFSETTO:-0500
TZNAME:CDT
DTSTART:20250309T080000
END:DAYLIGHT
BEGIN:STANDARD
TZOFFSETFROM:-0500
TZOFFSETTO:-0600
TZNAME:CST
DTSTART:20251102T070000
END:STANDARD
BEGIN:DAYLIGHT
TZOFFSETFROM:-0600
TZOFFSETTO:-0500
TZNAME:CDT
DTSTART:20260308T080000
END:DAYLIGHT
BEGIN:STANDARD
TZOFFSETFROM:-0500
TZOFFSETTO:-0600
TZNAME:CST
DTSTART:20261101T070000
END:STANDARD
BEGIN:DAYLIGHT
TZOFFSETFROM:-0600
TZOFFSETTO:-0500
TZNAME:CDT
DTSTART:20270314T080000
END:DAYLIGHT
BEGIN:STANDARD
TZOFFSETFROM:-0500
TZOFFSETTO:-0600
TZNAME:CST
DTSTART:20271107T070000
END:STANDARD
END:VTIMEZONE
BEGIN:VEVENT
DTSTART;TZID=America/Chicago:20260520T113000
DTEND;TZID=America/Chicago:20260520T113000
DTSTAMP:20260424T031410
CREATED:20260421T151932Z
LAST-MODIFIED:20260421T151932Z
UID:2804-1779276600-1779276600@www.ventanabybuckner.com
SUMMARY:In The Huddle with Tony & Janet Dorsett
DESCRIPTION:Hear about Tony Dorsett’s best plays from the man himself.\nJoin us as we relive unforgettable moments with one of the greatest to ever play the game.\n\nDon’t miss your chance to be part of an up-close-and-personal discussion with our newest Members\, Hall of Famer Tony Dorsett and his wife Janet. Enjoy a highlight reel of legendary plays hosted by Tony\, followed by a Q&A session led by Janet.\n\nFormer running back Tony Dorsett is the first football player in history to have won the College National Championship\, the Heisman Trophy\, the Super Bowl\, and been inducted into both the College and Pro Football Halls of Fame\n\nLunch and valet service will be provided.
URL:https://www.ventanabybuckner.com/event/in-the-huddle-with-tony-janet-dorsett/
LOCATION:Ventana by Buckner\, 8301 N Central Expressway\, Dallas\, TX\, 75225\, United States
CATEGORIES:In-Person Event
END:VEVENT
END:VCALENDAR