BEGIN:VCALENDAR
VERSION:2.0
PRODID:-//Ventana By Buckner - ECPv6.15.20//NONSGML v1.0//EN
CALSCALE:GREGORIAN
METHOD:PUBLISH
X-ORIGINAL-URL:https://www.ventanabybuckner.com
X-WR-CALDESC:Events for Ventana By Buckner
REFRESH-INTERVAL;VALUE=DURATION:PT1H
X-Robots-Tag:noindex
X-PUBLISHED-TTL:PT1H
BEGIN:VTIMEZONE
TZID:America/Chicago
BEGIN:DAYLIGHT
TZOFFSETFROM:-0600
TZOFFSETTO:-0500
TZNAME:CDT
DTSTART:20250309T080000
END:DAYLIGHT
BEGIN:STANDARD
TZOFFSETFROM:-0500
TZOFFSETTO:-0600
TZNAME:CST
DTSTART:20251102T070000
END:STANDARD
BEGIN:DAYLIGHT
TZOFFSETFROM:-0600
TZOFFSETTO:-0500
TZNAME:CDT
DTSTART:20260308T080000
END:DAYLIGHT
BEGIN:STANDARD
TZOFFSETFROM:-0500
TZOFFSETTO:-0600
TZNAME:CST
DTSTART:20261101T070000
END:STANDARD
BEGIN:DAYLIGHT
TZOFFSETFROM:-0600
TZOFFSETTO:-0500
TZNAME:CDT
DTSTART:20270314T080000
END:DAYLIGHT
BEGIN:STANDARD
TZOFFSETFROM:-0500
TZOFFSETTO:-0600
TZNAME:CST
DTSTART:20271107T070000
END:STANDARD
END:VTIMEZONE
BEGIN:VEVENT
DTSTART;TZID=America/Chicago:20260416T113000
DTEND;TZID=America/Chicago:20260416T113000
DTSTAMP:20260424T033628
CREATED:20260326T174446Z
LAST-MODIFIED:20260326T174549Z
UID:2788-1776339000-1776339000@www.ventanabybuckner.com
SUMMARY:Unlock the Keys to Longevity
DESCRIPTION:You can live healthier\, for longer – and Dr. Cooper is here to show you how. \nBe our guest as we welcome fitness legend Dr. Kenneth H. Cooper\, who will share his expert insight on achieving health and wellness that lasts. Since 2019\, Ventana’s exclusive alliance with Dr. Cooper has ensured his world-renowned strategic roadmap for vitality is in place for our Members. \nAs the “Father of Aerobics”\, leader of the physical fitness movement\, trainer of the 1970 World Cup winners\, and creator of the conditioning program for NASA’s astronauts\, Dr. Cooper has inspired millions to focus on their health. \nAll attendees will receive a copy of Dr. Cooper’s recently released 20th book Grow Healthier as you Grow Older. Lunch and valet service will be provided.
URL:https://www.ventanabybuckner.com/event/unlock-the-keys-to-longevity/
LOCATION:Ventana by Buckner\, 8301 N Central Expressway\, Dallas\, TX\, 75225\, United States
CATEGORIES:In-Person Event
END:VEVENT
END:VCALENDAR