BEGIN:VCALENDAR
VERSION:2.0
PRODID:-//Ventana By Buckner - ECPv6.15.20//NONSGML v1.0//EN
CALSCALE:GREGORIAN
METHOD:PUBLISH
X-WR-CALNAME:Ventana By Buckner
X-ORIGINAL-URL:https://www.ventanabybuckner.com
X-WR-CALDESC:Events for Ventana By Buckner
REFRESH-INTERVAL;VALUE=DURATION:PT1H
X-Robots-Tag:noindex
X-PUBLISHED-TTL:PT1H
BEGIN:VTIMEZONE
TZID:America/Chicago
BEGIN:DAYLIGHT
TZOFFSETFROM:-0600
TZOFFSETTO:-0500
TZNAME:CDT
DTSTART:20250309T080000
END:DAYLIGHT
BEGIN:STANDARD
TZOFFSETFROM:-0500
TZOFFSETTO:-0600
TZNAME:CST
DTSTART:20251102T070000
END:STANDARD
BEGIN:DAYLIGHT
TZOFFSETFROM:-0600
TZOFFSETTO:-0500
TZNAME:CDT
DTSTART:20260308T080000
END:DAYLIGHT
BEGIN:STANDARD
TZOFFSETFROM:-0500
TZOFFSETTO:-0600
TZNAME:CST
DTSTART:20261101T070000
END:STANDARD
BEGIN:DAYLIGHT
TZOFFSETFROM:-0600
TZOFFSETTO:-0500
TZNAME:CDT
DTSTART:20270314T080000
END:DAYLIGHT
BEGIN:STANDARD
TZOFFSETFROM:-0500
TZOFFSETTO:-0600
TZNAME:CST
DTSTART:20271107T070000
END:STANDARD
END:VTIMEZONE
BEGIN:VEVENT
DTSTART;TZID=America/Chicago:20260304T113000
DTEND;TZID=America/Chicago:20260304T130000
DTSTAMP:20260424T040554
CREATED:20260112T181502Z
LAST-MODIFIED:20260223T144424Z
UID:2616-1772623800-1772629200@www.ventanabybuckner.com
SUMMARY:Won't You Be My Neighbor?
DESCRIPTION:Meet the Mr. Rogers not everyone knew — but everyone is sure to love.\nIt’s often said that the power of friendship is healing. No one knows that better than Texas native Tim Madigan\, who began an unexpected and extraordinary friendship with beloved children’s television host Mr. Rogers. Be our guest to hear from Tim himself about his beloved mentor — a story of trust\, friendship\, and everlasting hope. \nLight refreshments will be served. Stay for a tour after the event to learn what being a neighbor means at Ventana. \nRSVP using the form below!
URL:https://www.ventanabybuckner.com/event/wont-you-be-my-neighbor/
LOCATION:Ventana by Buckner\, 8301 N Central Expressway\, Dallas\, TX\, 75225\, United States
CATEGORIES:In-Person Event
END:VEVENT
END:VCALENDAR